Workbook

Sheet INTRO
A1: Welcome to the new Bowls South Africa Green Level Points Calculator Rev 6A2
A3: This is a new release of the previous versions of Ron Cubitt's Spreadsheets, with the following changes:
A5: 1. This template is used for greens of dimensions 35 to 37 m long and wide, with 2m spacing between points.
B6: Use the start and end point offset distances from the ditches (table or calculations ) as below:
B7: Length (m) | C7: Spacing (m)
B8: 35 | C8: =ROUND((B8-17*2)/2,2) -> 0.5 | E8: Or calculate according to green :
B9: =B8+0.25 -> 35.25 | C9: =ROUND((B9-17*2)/2,2) -> 0.63 | E9: Green Length (North South) | H9: 36 | I9: m
B10: =B9+0.25 -> 35.5 | C10: =ROUND((B10-17*2)/2,2) -> 0.75 | E10: Spacing of points inbetween | H10: 2 | I10: m
B11: =B10+0.25 -> 35.75 | C11: =ROUND((B11-17*2)/2,2) -> 0.88 | E11: Offset from each ditch | H11: =(H9-17*2)/2 -> 1 | I11: m
B12: =B11+0.25 -> 36 | C12: =ROUND((B12-17*2)/2,2) -> 1 | E12: Green Width (East West) | H12: 36 | I12: m
B13: =B12+0.25 -> 36.25 | C13: =ROUND((B13-17*2)/2,2) -> 1.13 | E13: Spacing of points inbetween | H13: 2 | I13: m
B14: =B13+0.25 -> 36.5 | C14: =ROUND((B14-17*2)/2,2) -> 1.25 | E14: offset from each ditch | H14: =(H12-17*2)/2 -> 1 | I14: m
B15: =B14+0.25 -> 36.75 | C15: =ROUND((B15-17*2)/2,2) -> 1.38
B16: =B15+0.25 -> 37 | C16: =ROUND((B16-17*2)/2,2) -> 1.5
A18: 2. The same workbooks are now used for dumpy and laser level usage, assuming the laser is used as a
B19: dumpy to merely read off the height (level) on a staff and the level captured as per dumpy levelling.
A34: 3. The average green level is now used as the baseline for computing the BSA level points and fill/cut volumes.
B35: Previously Cubitt used the MODE as the baseline, which leads to errors
B36: when the level data points are not normally distrusted (i.e. forms a bell-shaped curve)
A52: 4. Conventions used: | C52: input | D52: cells in yellow highlights and BLUE text is used for inputs.
C53: All cells other than those for data entry will be write protected.
C54: BLACK is used for text, RED is used for automated references or calculations.
B56: Drawn up by Nic Marais | E56: Please send feedback to Nic.Marais.1962@gmail.com
B57: Revised on 28 September 2026
B105: ENJOY TESTING THIS OUT! | E105: © | F105: Nic Marais 1 May 2026

Sheet INPUT
B1: BowlsSA Green Levels Points - Revision 6A2 for 35 to 37 m greens, 2m spacing (18x18) | S1: INPUT sheet
B3: Bowls Club | I3: Levels taken by
B4: Green | I4: Date levels taken
C6: Relative Level Readings mm | I6: Reference Datum Level | O6: mm
B7: NW | C7: 1/2 | D7: 2/4 | E7: 3/6 | F7: 4/8 | G7: 5/10 | H7: 6/12 | I7: 7/14 | J7: 8/16 | K7: 9/18 | L7: 10/20 | M7: 11/22 | N7: 12/24 | O7: 13/26 | P7: 14/28 | Q7: 15/30 | R7: 16/32 | S7: 17/34 | T7: 18/36 | U7: NE
B8: 1/2
B9: 2/4
B10: 3/6
B11: 4/8
B12: 5/10
B13: 6/12
B14: 7/14
B15: 8/16
B16: 9/18
B17: 10/20
B18: 11/22
B19: 12/24
... B25: 18/36
B26: SW | F26: N.B. Drag-and-drop not allowed when entering readings. | U26: SE
C28: Levels Analysis: (mm)
C29: Whole Area (18x18) | G29: Min. | H29: =MIN(C8:T25) -> 0 | I29: Max. | J29: =MAX(C8:T25) -> 0 | K29: Average | M29: =ROUND(AVERAGE(C8:T25),0) -> #DIV/0! | N29: mm
C30: Inner Area (16x16) | G30: Min. | H30: =MIN(D9:S24) -> 0 | I30: Max. | J30: =MAX(D9:S24) -> 0 | K30: Average | M30: =ROUND(AVERAGE(D9:S24),0) -> #DIV/0! | N30: mm

Sheet BSA LEVEL POINTS
B1: =INPUT!B1 -> BowlsSA Green Levels Points - Revision 6A2 for 35 to 37 m greens, 2m spacing (18x18) | R1: BSA POINTS sheet
B3: Bowls Club | D3: =INPUT!D3 -> 0 | J3: Levels taken by | M3: =INPUT!L3 -> 0
B4: Green | D4: =INPUT!D4 -> 0 | J4: Date of Levels Taken | M4: =INPUT!L4 -> 0
B6: Set Tolerance (Tol.) to ± | F6: 4 | G6: mm | J6: Index: | K6: LOW | L6: <-Tol. | M6: OK | N6: ± Tol. | O6: HIGH | P6: >Tol.
B7: NW | U7: NE
B8: 1/2 | C8: =$D$28-INPUT!C8 -> #DIV/0! | D8: =$D$28-INPUT!D8 -> #DIV/0! | E8: =$D$28-INPUT!E8 -> #DIV/0! | F8: =$D$28-INPUT!F8 -> #DIV/0! | G8: =$D$28-INPUT!G8 -> #DIV/0! | H8: =$D$28-INPUT!H8 -> #DIV/0! | I8: =$D$28-INPUT!I8 -> #DIV/0! | J8: =$D$28-INPUT!J8 -> #DIV/0! | ... T8: =$D$28-INPUT!T8 -> #DIV/0!
B9: 2/4 | C9: =$D$28-INPUT!C9 -> #DIV/0! | D9: =$D$28-INPUT!D9 -> #DIV/0! | E9: =$D$28-INPUT!E9 -> #DIV/0! | F9: =$D$28-INPUT!F9 -> #DIV/0! | G9: =$D$28-INPUT!G9 -> #DIV/0! | H9: =$D$28-INPUT!H9 -> #DIV/0! | I9: =$D$28-INPUT!I9 -> #DIV/0! | J9: =$D$28-INPUT!J9 -> #DIV/0! | ... T9: =$D$28-INPUT!T9 -> #DIV/0!
B10: 3/6 | C10: =$D$28-INPUT!C10 -> #DIV/0! | D10: =$D$28-INPUT!D10 -> #DIV/0! | E10: =$D$28-INPUT!E10 -> #DIV/0! | F10: =$D$28-INPUT!F10 -> #DIV/0! | G10: =$D$28-INPUT!G10 -> #DIV/0! | H10: =$D$28-INPUT!H10 -> #DIV/0! | I10: =$D$28-INPUT!I10 -> #DIV/0! | J10: =$D$28-INPUT!J10 -> #DIV/0! | ... T10: =$D$28-INPUT!T10 -> #DIV/0!
B11: 4/8 | C11: =$D$28-INPUT!C11 -> #DIV/0! | D11: =$D$28-INPUT!D11 -> #DIV/0! | E11: =$D$28-INPUT!E11 -> #DIV/0! | F11: =$D$28-INPUT!F11 -> #DIV/0! | G11: =$D$28-INPUT!G11 -> #DIV/0! | H11: =$D$28-INPUT!H11 -> #DIV/0! | I11: =$D$28-INPUT!I11 -> #DIV/0! | J11: =$D$28-INPUT!J11 -> #DIV/0! | ... T11: =$D$28-INPUT!T11 -> #DIV/0!
B12: 5/10 | C12: =$D$28-INPUT!C12 -> #DIV/0! | D12: =$D$28-INPUT!D12 -> #DIV/0! | E12: =$D$28-INPUT!E12 -> #DIV/0! | F12: =$D$28-INPUT!F12 -> #DIV/0! | G12: =$D$28-INPUT!G12 -> #DIV/0! | H12: =$D$28-INPUT!H12 -> #DIV/0! | I12: =$D$28-INPUT!I12 -> #DIV/0! | J12: =$D$28-INPUT!J12 -> #DIV/0! | ... T12: =$D$28-INPUT!T12 -> #DIV/0!
B13: 6/12 | C13: =$D$28-INPUT!C13 -> #DIV/0! | D13: =$D$28-INPUT!D13 -> #DIV/0! | E13: =$D$28-INPUT!E13 -> #DIV/0! | F13: =$D$28-INPUT!F13 -> #DIV/0! | G13: =$D$28-INPUT!G13 -> #DIV/0! | H13: =$D$28-INPUT!H13 -> #DIV/0! | I13: =$D$28-INPUT!I13 -> #DIV/0! | J13: =$D$28-INPUT!J13 -> #DIV/0! | ... T13: =$D$28-INPUT!T13 -> #DIV/0!
B14: 7/14 | C14: =$D$28-INPUT!C14 -> #DIV/0! | D14: =$D$28-INPUT!D14 -> #DIV/0! | E14: =$D$28-INPUT!E14 -> #DIV/0! | F14: =$D$28-INPUT!F14 -> #DIV/0! | G14: =$D$28-INPUT!G14 -> #DIV/0! | H14: =$D$28-INPUT!H14 -> #DIV/0! | I14: =$D$28-INPUT!I14 -> #DIV/0! | J14: =$D$28-INPUT!J14 -> #DIV/0! | ... T14: =$D$28-INPUT!T14 -> #DIV/0!
B15: 8/16 | C15: =$D$28-INPUT!C15 -> #DIV/0! | D15: =$D$28-INPUT!D15 -> #DIV/0! | E15: =$D$28-INPUT!E15 -> #DIV/0! | F15: =$D$28-INPUT!F15 -> #DIV/0! | G15: =$D$28-INPUT!G15 -> #DIV/0! | H15: =$D$28-INPUT!H15 -> #DIV/0! | I15: =$D$28-INPUT!I15 -> #DIV/0! | J15: =$D$28-INPUT!J15 -> #DIV/0! | ... T15: =$D$28-INPUT!T15 -> #DIV/0!
B16: 9/18 | C16: =$D$28-INPUT!C16 -> #DIV/0! | D16: =$D$28-INPUT!D16 -> #DIV/0! | E16: =$D$28-INPUT!E16 -> #DIV/0! | F16: =$D$28-INPUT!F16 -> #DIV/0! | G16: =$D$28-INPUT!G16 -> #DIV/0! | H16: =$D$28-INPUT!H16 -> #DIV/0! | I16: =$D$28-INPUT!I16 -> #DIV/0! | J16: =$D$28-INPUT!J16 -> #DIV/0! | ... T16: =$D$28-INPUT!T16 -> #DIV/0!
B17: 10/20 | C17: =$D$28-INPUT!C17 -> #DIV/0! | D17: =$D$28-INPUT!D17 -> #DIV/0! | E17: =$D$28-INPUT!E17 -> #DIV/0! | F17: =$D$28-INPUT!F17 -> #DIV/0! | G17: =$D$28-INPUT!G17 -> #DIV/0! | H17: =$D$28-INPUT!H17 -> #DIV/0! | I17: =$D$28-INPUT!I17 -> #DIV/0! | J17: =$D$28-INPUT!J17 -> #DIV/0! | ... T17: =$D$28-INPUT!T17 -> #DIV/0!
B18: 11/22 | C18: =$D$28-INPUT!C18 -> #DIV/0! | D18: =$D$28-INPUT!D18 -> #DIV/0! | E18: =$D$28-INPUT!E18 -> #DIV/0! | F18: =$D$28-INPUT!F18 -> #DIV/0! | G18: =$D$28-INPUT!G18 -> #DIV/0! | H18: =$D$28-INPUT!H18 -> #DIV/0! | I18: =$D$28-INPUT!I18 -> #DIV/0! | J18: =$D$28-INPUT!J18 -> #DIV/0! | ... T18: =$D$28-INPUT!T18 -> #DIV/0!
B19: 12/24 | C19: =$D$28-INPUT!C19 -> #DIV/0! | D19: =$D$28-INPUT!D19 -> #DIV/0! | E19: =$D$28-INPUT!E19 -> #DIV/0! | F19: =$D$28-INPUT!F19 -> #DIV/0! | G19: =$D$28-INPUT!G19 -> #DIV/0! | H19: =$D$28-INPUT!H19 -> #DIV/0! | I19: =$D$28-INPUT!I19 -> #DIV/0! | J19: =$D$28-INPUT!J19 -> #DIV/0! | ... T19: =$D$28-INPUT!T19 -> #DIV/0!
... B25: 18/36 | C25: =$D$28-INPUT!C25 -> #DIV/0! | D25: =$D$28-INPUT!D25 -> #DIV/0! | E25: =$D$28-INPUT!E25 -> #DIV/0! | F25: =$D$28-INPUT!F25 -> #DIV/0! | G25: =$D$28-INPUT!G25 -> #DIV/0! | H25: =$D$28-INPUT!H25 -> #DIV/0! | I25: =$D$28-INPUT!I25 -> #DIV/0! | J25: =$D$28-INPUT!J25 -> #DIV/0! | ... T25: =$D$28-INPUT!T25 -> #DIV/0!
B26: SW | C26: 1/2 | D26: 2/4 | E26: 3/6 | F26: 4/8 | G26: 5/10 | H26: 6/12 | I26: 7/14 | J26: 8/16 | K26: 9/18 | L26: 10/20 | M26: 11/22 | N26: 12/24 | O26: 13/26 | P26: 14/28 | Q26: 15/30 | R26: 16/32 | S26: 17/34 | T26: 18/36 | U26: SE
B28: Baseline | D28: =INPUT!M29 -> #DIV/0! | E28: mm | F28: Level Points | H28: =COUNT(C8:T25)-M28-M29 -> 0 | I28: =H28/COUNT(C8:T25) -> #DIV/0! | K28: LOW Points | M28: =COUNTIF(C8:T25,"<-"&F6) -> 0 | N28: =M28/COUNT(C8:T25) -> #DIV/0!
K29: HIGH Points | M29: =COUNTIF(C8:T25,">"&F6) -> 0 | N29: =M29/COUNT(C8:T25) -> #DIV/0!
B31: =CONCATENATE("BSA Level Points calculated from baseline ± ",F6," mm (out of 30) for WHOLE AREA") -> BSA Level Points calculated from baseline ± 4 mm (out of 30) for WHOLE AREA | P31: =I28*30 -> #DIV/0!

Sheet Old Inner Pts
B1: =INPUT!B1 -> BowlsSA Green Levels Points - Revision 6A2 for 35 to 37 m greens, 2m spacing (18x18) | S1: OLD INNER PTS
B2: NOTE: This worksheet is only to be used for a quick comparison to previous level point calculations when oly the inner player areas were scored.
B3: Bowls Club | D3: =INPUT!D3 -> 0 | J3: Levels taken by | M3: =INPUT!L3 -> 0
B4: Green | D4: =INPUT!D4 -> 0 | J4: Date of Levels Taken | M4: =INPUT!L4 -> 0
B6: Set Tolerance (Tol.) to ± | F6: 4 | G6: mm | J6: Index: | K6: LOW | L6: <-Tol. | M6: OK | N6: ± Tol. | O6: HIGH | P6: >Tol.
B7: NW | U7: NE
B8: 1/2
B9: 2/4 | D9: =$D$28-INPUT!D9 -> #DIV/0! | E9: =$D$28-INPUT!E9 -> #DIV/0! | F9: =$D$28-INPUT!F9 -> #DIV/0! | G9: =$D$28-INPUT!G9 -> #DIV/0! | H9: =$D$28-INPUT!H9 -> #DIV/0! | I9: =$D$28-INPUT!I9 -> #DIV/0! | J9: =$D$28-INPUT!J9 -> #DIV/0! | K9: =$D$28-INPUT!K9 -> #DIV/0! | ... S9: =$D$28-INPUT!S9 -> #DIV/0!
B10: 3/6 | D10: =$D$28-INPUT!D10 -> #DIV/0! | E10: =$D$28-INPUT!E10 -> #DIV/0! | F10: =$D$28-INPUT!F10 -> #DIV/0! | G10: =$D$28-INPUT!G10 -> #DIV/0! | H10: =$D$28-INPUT!H10 -> #DIV/0! | I10: =$D$28-INPUT!I10 -> #DIV/0! | J10: =$D$28-INPUT!J10 -> #DIV/0! | K10: =$D$28-INPUT!K10 -> #DIV/0! | ... S10: =$D$28-INPUT!S10 -> #DIV/0!
B11: 4/8 | D11: =$D$28-INPUT!D11 -> #DIV/0! | E11: =$D$28-INPUT!E11 -> #DIV/0! | F11: =$D$28-INPUT!F11 -> #DIV/0! | G11: =$D$28-INPUT!G11 -> #DIV/0! | H11: =$D$28-INPUT!H11 -> #DIV/0! | I11: =$D$28-INPUT!I11 -> #DIV/0! | J11: =$D$28-INPUT!J11 -> #DIV/0! | K11: =$D$28-INPUT!K11 -> #DIV/0! | ... S11: =$D$28-INPUT!S11 -> #DIV/0!
B12: 5/10 | D12: =$D$28-INPUT!D12 -> #DIV/0! | E12: =$D$28-INPUT!E12 -> #DIV/0! | F12: =$D$28-INPUT!F12 -> #DIV/0! | G12: =$D$28-INPUT!G12 -> #DIV/0! | H12: =$D$28-INPUT!H12 -> #DIV/0! | I12: =$D$28-INPUT!I12 -> #DIV/0! | J12: =$D$28-INPUT!J12 -> #DIV/0! | K12: =$D$28-INPUT!K12 -> #DIV/0! | ... S12: =$D$28-INPUT!S12 -> #DIV/0!
B13: 6/12 | D13: =$D$28-INPUT!D13 -> #DIV/0! | E13: =$D$28-INPUT!E13 -> #DIV/0! | F13: =$D$28-INPUT!F13 -> #DIV/0! | G13: =$D$28-INPUT!G13 -> #DIV/0! | H13: =$D$28-INPUT!H13 -> #DIV/0! | I13: =$D$28-INPUT!I13 -> #DIV/0! | J13: =$D$28-INPUT!J13 -> #DIV/0! | K13: =$D$28-INPUT!K13 -> #DIV/0! | ... S13: =$D$28-INPUT!S13 -> #DIV/0!
B14: 7/14 | D14: =$D$28-INPUT!D14 -> #DIV/0! | E14: =$D$28-INPUT!E14 -> #DIV/0! | F14: =$D$28-INPUT!F14 -> #DIV/0! | G14: =$D$28-INPUT!G14 -> #DIV/0! | H14: =$D$28-INPUT!H14 -> #DIV/0! | I14: =$D$28-INPUT!I14 -> #DIV/0! | J14: =$D$28-INPUT!J14 -> #DIV/0! | K14: =$D$28-INPUT!K14 -> #DIV/0! | ... S14: =$D$28-INPUT!S14 -> #DIV/0!
B15: 8/16 | D15: =$D$28-INPUT!D15 -> #DIV/0! | E15: =$D$28-INPUT!E15 -> #DIV/0! | F15: =$D$28-INPUT!F15 -> #DIV/0! | G15: =$D$28-INPUT!G15 -> #DIV/0! | H15: =$D$28-INPUT!H15 -> #DIV/0! | I15: =$D$28-INPUT!I15 -> #DIV/0! | J15: =$D$28-INPUT!J15 -> #DIV/0! | K15: =$D$28-INPUT!K15 -> #DIV/0! | ... S15: =$D$28-INPUT!S15 -> #DIV/0!
B16: 9/18 | D16: =$D$28-INPUT!D16 -> #DIV/0! | E16: =$D$28-INPUT!E16 -> #DIV/0! | F16: =$D$28-INPUT!F16 -> #DIV/0! | G16: =$D$28-INPUT!G16 -> #DIV/0! | H16: =$D$28-INPUT!H16 -> #DIV/0! | I16: =$D$28-INPUT!I16 -> #DIV/0! | J16: =$D$28-INPUT!J16 -> #DIV/0! | K16: =$D$28-INPUT!K16 -> #DIV/0! | ... S16: =$D$28-INPUT!S16 -> #DIV/0!
B17: 10/20 | D17: =$D$28-INPUT!D17 -> #DIV/0! | E17: =$D$28-INPUT!E17 -> #DIV/0! | F17: =$D$28-INPUT!F17 -> #DIV/0! | G17: =$D$28-INPUT!G17 -> #DIV/0! | H17: =$D$28-INPUT!H17 -> #DIV/0! | I17: =$D$28-INPUT!I17 -> #DIV/0! | J17: =$D$28-INPUT!J17 -> #DIV/0! | K17: =$D$28-INPUT!K17 -> #DIV/0! | ... S17: =$D$28-INPUT!S17 -> #DIV/0!
B18: 11/22 | D18: =$D$28-INPUT!D18 -> #DIV/0! | E18: =$D$28-INPUT!E18 -> #DIV/0! | F18: =$D$28-INPUT!F18 -> #DIV/0! | G18: =$D$28-INPUT!G18 -> #DIV/0! | H18: =$D$28-INPUT!H18 -> #DIV/0! | I18: =$D$28-INPUT!I18 -> #DIV/0! | J18: =$D$28-INPUT!J18 -> #DIV/0! | K18: =$D$28-INPUT!K18 -> #DIV/0! | ... S18: =$D$28-INPUT!S18 -> #DIV/0!
B19: 12/24 | D19: =$D$28-INPUT!D19 -> #DIV/0! | E19: =$D$28-INPUT!E19 -> #DIV/0! | F19: =$D$28-INPUT!F19 -> #DIV/0! | G19: =$D$28-INPUT!G19 -> #DIV/0! | H19: =$D$28-INPUT!H19 -> #DIV/0! | I19: =$D$28-INPUT!I19 -> #DIV/0! | J19: =$D$28-INPUT!J19 -> #DIV/0! | K19: =$D$28-INPUT!K19 -> #DIV/0! | ... S19: =$D$28-INPUT!S19 -> #DIV/0!
B20: 13/26 | D20: =$D$28-INPUT!D20 -> #DIV/0! | E20: =$D$28-INPUT!E20 -> #DIV/0! | F20: =$D$28-INPUT!F20 -> #DIV/0! | G20: =$D$28-INPUT!G20 -> #DIV/0! | H20: =$D$28-INPUT!H20 -> #DIV/0! | I20: =$D$28-INPUT!I20 -> #DIV/0! | J20: =$D$28-INPUT!J20 -> #DIV/0! | K20: =$D$28-INPUT!K20 -> #DIV/0! | ... S20: =$D$28-INPUT!S20 -> #DIV/0!
... B24: 17/34 | D24: =$D$28-INPUT!D24 -> #DIV/0! | E24: =$D$28-INPUT!E24 -> #DIV/0! | F24: =$D$28-INPUT!F24 -> #DIV/0! | G24: =$D$28-INPUT!G24 -> #DIV/0! | H24: =$D$28-INPUT!H24 -> #DIV/0! | I24: =$D$28-INPUT!I24 -> #DIV/0! | J24: =$D$28-INPUT!J24 -> #DIV/0! | K24: =$D$28-INPUT!K24 -> #DIV/0! | ... S24: =$D$28-INPUT!S24 -> #DIV/0!
B25: 18/36
B26: SW | C26: 1/2 | D26: 2/4 | E26: 3/6 | F26: 4/8 | G26: 5/10 | H26: 6/12 | I26: 7/14 | J26: 8/16 | K26: 9/18 | L26: 10/20 | M26: 11/22 | N26: 12/24 | O26: 13/26 | P26: 14/28 | Q26: 15/30 | R26: 16/32 | S26: 17/34 | T26: 18/36 | U26: SE
B28: Baseline | D28: =INPUT!M30 -> #DIV/0! | E28: mm | F28: Level Points | H28: =COUNT(C8:T25)-M28-M29 -> 0 | I28: =H28/COUNT(C8:T25) -> #DIV/0! | K28: LOW Points | M28: =COUNTIF(C8:T25,"<-"&F6) -> 0 | N28: =M28/COUNT(C8:T25) -> #DIV/0!
K29: HIGH Points | M29: =COUNTIF(C8:T25,">"&F6) -> 0 | N29: =M29/COUNT(C8:T25) -> #DIV/0!
B31: =CONCATENATE("BSA Level Points calculated from baseline ± ",F6," mm (out of 30) for INNER AREA") -> BSA Level Points calculated from baseline ± 4 mm (out of 30) for INNER AREA | P31: =I28*30 -> #DIV/0!

Sheet PROFILE
B1: =INPUT!B1 -> BowlsSA Green Levels Points - Revision 6A2 for 35 to 37 m greens, 2m spacing (18x18) | R1: PROFILE sheet
B3: Bowls Club | D3: =INPUT!D3 -> 0 | J3: Levels taken by | M3: =INPUT!L3 -> 0
B4: Green | D4: =INPUT!D4 -> 0 | J4: Date of Levels Taken | M4: =INPUT!L4 -> 0
C6: SET new base level to | J6: Average Level | L6: =INPUT!M29 -> #DIV/0! | M6: mm
C8: Index | D8: LOW | F8: Level | H8: HIGH | J8: Highest Point | L8: =INPUT!H29 -> 0 | M8: mm | N8: Lowest Point | P8: =INPUT!J29 -> 0 | Q8: mm
B9: NW | U9: NE
B10: 1/2 | C10: =$G$6-INPUT!C8 -> 0 | D10: =$G$6-INPUT!D8 -> 0 | E10: =$G$6-INPUT!E8 -> 0 | F10: =$G$6-INPUT!F8 -> 0 | G10: =$G$6-INPUT!G8 -> 0 | H10: =$G$6-INPUT!H8 -> 0 | I10: =$G$6-INPUT!I8 -> 0 | J10: =$G$6-INPUT!J8 -> 0 | ... T10: =$G$6-INPUT!T8 -> 0
B11: 2/4 | C11: =$G$6-INPUT!C9 -> 0 | D11: =$G$6-INPUT!D9 -> 0 | E11: =$G$6-INPUT!E9 -> 0 | F11: =$G$6-INPUT!F9 -> 0 | G11: =$G$6-INPUT!G9 -> 0 | H11: =$G$6-INPUT!H9 -> 0 | I11: =$G$6-INPUT!I9 -> 0 | J11: =$G$6-INPUT!J9 -> 0 | ... T11: =$G$6-INPUT!T9 -> 0
B12: 3/6 | C12: =$G$6-INPUT!C10 -> 0 | D12: =$G$6-INPUT!D10 -> 0 | E12: =$G$6-INPUT!E10 -> 0 | F12: =$G$6-INPUT!F10 -> 0 | G12: =$G$6-INPUT!G10 -> 0 | H12: =$G$6-INPUT!H10 -> 0 | I12: =$G$6-INPUT!I10 -> 0 | J12: =$G$6-INPUT!J10 -> 0 | ... T12: =$G$6-INPUT!T10 -> 0
B13: 4/8 | C13: =$G$6-INPUT!C11 -> 0 | D13: =$G$6-INPUT!D11 -> 0 | E13: =$G$6-INPUT!E11 -> 0 | F13: =$G$6-INPUT!F11 -> 0 | G13: =$G$6-INPUT!G11 -> 0 | H13: =$G$6-INPUT!H11 -> 0 | I13: =$G$6-INPUT!I11 -> 0 | J13: =$G$6-INPUT!J11 -> 0 | ... T13: =$G$6-INPUT!T11 -> 0
B14: 5/10 | C14: =$G$6-INPUT!C12 -> 0 | D14: =$G$6-INPUT!D12 -> 0 | E14: =$G$6-INPUT!E12 -> 0 | F14: =$G$6-INPUT!F12 -> 0 | G14: =$G$6-INPUT!G12 -> 0 | H14: =$G$6-INPUT!H12 -> 0 | I14: =$G$6-INPUT!I12 -> 0 | J14: =$G$6-INPUT!J12 -> 0 | ... T14: =$G$6-INPUT!T12 -> 0
B15: 6/12 | C15: =$G$6-INPUT!C13 -> 0 | D15: =$G$6-INPUT!D13 -> 0 | E15: =$G$6-INPUT!E13 -> 0 | F15: =$G$6-INPUT!F13 -> 0 | G15: =$G$6-INPUT!G13 -> 0 | H15: =$G$6-INPUT!H13 -> 0 | I15: =$G$6-INPUT!I13 -> 0 | J15: =$G$6-INPUT!J13 -> 0 | ... T15: =$G$6-INPUT!T13 -> 0
B16: 7/14 | C16: =$G$6-INPUT!C14 -> 0 | D16: =$G$6-INPUT!D14 -> 0 | E16: =$G$6-INPUT!E14 -> 0 | F16: =$G$6-INPUT!F14 -> 0 | G16: =$G$6-INPUT!G14 -> 0 | H16: =$G$6-INPUT!H14 -> 0 | I16: =$G$6-INPUT!I14 -> 0 | J16: =$G$6-INPUT!J14 -> 0 | ... T16: =$G$6-INPUT!T14 -> 0
B17: 8/16 | C17: =$G$6-INPUT!C15 -> 0 | D17: =$G$6-INPUT!D15 -> 0 | E17: =$G$6-INPUT!E15 -> 0 | F17: =$G$6-INPUT!F15 -> 0 | G17: =$G$6-INPUT!G15 -> 0 | H17: =$G$6-INPUT!H15 -> 0 | I17: =$G$6-INPUT!I15 -> 0 | J17: =$G$6-INPUT!J15 -> 0 | ... T17: =$G$6-INPUT!T15 -> 0
B18: 9/18 | C18: =$G$6-INPUT!C16 -> 0 | D18: =$G$6-INPUT!D16 -> 0 | E18: =$G$6-INPUT!E16 -> 0 | F18: =$G$6-INPUT!F16 -> 0 | G18: =$G$6-INPUT!G16 -> 0 | H18: =$G$6-INPUT!H16 -> 0 | I18: =$G$6-INPUT!I16 -> 0 | J18: =$G$6-INPUT!J16 -> 0 | ... T18: =$G$6-INPUT!T16 -> 0
B19: 10/20 | C19: =$G$6-INPUT!C17 -> 0 | D19: =$G$6-INPUT!D17 -> 0 | E19: =$G$6-INPUT!E17 -> 0 | F19: =$G$6-INPUT!F17 -> 0 | G19: =$G$6-INPUT!G17 -> 0 | H19: =$G$6-INPUT!H17 -> 0 | I19: =$G$6-INPUT!I17 -> 0 | J19: =$G$6-INPUT!J17 -> 0 | ... T19: =$G$6-INPUT!T17 -> 0
B20: 11/22 | C20: =$G$6-INPUT!C18 -> 0 | D20: =$G$6-INPUT!D18 -> 0 | E20: =$G$6-INPUT!E18 -> 0 | F20: =$G$6-INPUT!F18 -> 0 | G20: =$G$6-INPUT!G18 -> 0 | H20: =$G$6-INPUT!H18 -> 0 | I20: =$G$6-INPUT!I18 -> 0 | J20: =$G$6-INPUT!J18 -> 0 | ... T20: =$G$6-INPUT!T18 -> 0
B21: 12/24 | C21: =$G$6-INPUT!C19 -> 0 | D21: =$G$6-INPUT!D19 -> 0 | E21: =$G$6-INPUT!E19 -> 0 | F21: =$G$6-INPUT!F19 -> 0 | G21: =$G$6-INPUT!G19 -> 0 | H21: =$G$6-INPUT!H19 -> 0 | I21: =$G$6-INPUT!I19 -> 0 | J21: =$G$6-INPUT!J19 -> 0 | ... T21: =$G$6-INPUT!T19 -> 0
... B27: 18/36 | C27: =$G$6-INPUT!C25 -> 0 | D27: =$G$6-INPUT!D25 -> 0 | E27: =$G$6-INPUT!E25 -> 0 | F27: =$G$6-INPUT!F25 -> 0 | G27: =$G$6-INPUT!G25 -> 0 | H27: =$G$6-INPUT!H25 -> 0 | I27: =$G$6-INPUT!I25 -> 0 | J27: =$G$6-INPUT!J25 -> 0 | ... T27: =$G$6-INPUT!T25 -> 0
B28: SW | C28: 1/2 | D28: 2/4 | E28: 3/6 | F28: 4/8 | G28: 5/10 | H28: 6/12 | I28: 7/14 | J28: 8/16 | K28: 9/18 | L28: 10/20 | M28: 11/22 | N28: 12/24 | O28: 13/26 | P28: 14/28 | Q28: 15/30 | R28: 16/32 | S28: 17/34 | T28: 18/36 | U28: SE
B30: NEW GREEN LEVEL | F30: =G6 -> 0 | G30: mm | H30: Maximum Cut (mm) | L30: =MAX(C10:T27) -> 0 | M30: mm | N30: Maximum Fill (mm) | R30: =MIN(C10:T27) -> 0
B31: Area within ± 1mm of level | F31: =COUNTIFS(C10:T27,">=-1",C10:T27,"<=1")/COUNT(C10:T27) -> 1 | H31: HIGH Area Requiring Cut | L31: =COUNTIF(C10:T27,">1")/COUNT(C10:T27) -> 0 | N31: LOW Area Requiring Fill | R31: =COUNTIF(C10:T27,"<-1")/COUNT(C10:T27) -> 0
B33: For Volume Calculations
C34: Green Length | D34: 36 | E34: m | F34: Green Area | H34: =D34*D35 -> 1296 | J34: m2 | K34: Estimated Fill Volume | O34: =SUMIF(C10:T27,"<0")*H35/1000*(-1) -> 0 | Q34: m3
C35: Green Width | D35: 36 | E35: m | F35: Block Area | H35: =D34*D35/COUNT(C10:T27) -> 4 | J35: m2 | K35: Estimate Cut/Scarify Vol. | O35: =SUMIF(C10:T27,">0")*H35/1000 -> 0 | Q35: m3

Sheet RecordSheet
B1: BowlsSA Green Levels Points - Revision 6A for 35 to 37 m greens, 2m spacing (18x18) | Q1: RecordSheet
B3: Bowls Club | J3: Levels taken by | Q3: Datum (mm)
B4: Green | J4: Date
B6: NW | C6: 1/2 | D6: 2/4 | E6: 3/6 | F6: 4/8 | G6: 5/10 | H6: 6/12 | I6: 7/14 | J6: 8/16 | K6: 9/18 | L6: 10/20 | M6: 11/22 | N6: 12/24 | O6: 13/26 | P6: 14/28 | Q6: 15/30 | R6: 16/32 | S6: 17/34 | T6: 18/36 | U6: NE
B7: 1/2
B8: 2/4
B9: 3/6
B10: 4/8
B11: 5/10
B12: 6/12
B13: 7/14
B14: 8/16
B15: 9/18
B16: 10/20
B17: 11/22
B18: 12/24
... B24: 18/36
B25: SW | U25: SE
