Workbook

Sheet INTRO
A1: Welcome to the new Bowls South Africa Green Level Points Calculator Rev 6X2 3m
A3: This is a new release of the previous versions of Ron Cubitt's Spreadsheets, with the following changes:
A5: 1. This template is used for greens of dimensions 35 to 37m long and wide, with 3m spacing between points.
B6: Use the start and end point offset distances from the ditches (table or calculations ) as below:
E8: Or calculate according to green :
B9: Length (m) | C9: Ditch offset (m) | E9: Green Length (North South) | H9: 35 | I9: m
B10: 35 | C10: =ROUND((B10-11*3)/2,2) -> 1 | E10: Spacing of points inbetween | H10: 3 | I10: m
B11: =B10+0.5 -> 35.5 | C11: =ROUND((B11-11*3)/2,2) -> 1.25 | E11: Offset from each ditch | H11: =(H9-11*3)/2 -> 1 | I11: m
B12: =B11+0.5 -> 36 | C12: =ROUND((B12-11*3)/2,2) -> 1.5 | E12: Green Width (East West) | H12: 37 | I12: m
B13: =B12+0.5 -> 36.5 | C13: =ROUND((B13-11*3)/2,2) -> 1.75 | E13: Spacing of points inbetween | H13: 3 | I13: m
B14: =B13+0.5 -> 37 | C14: =ROUND((B14-11*3)/2,2) -> 2 | E14: offset from each ditch | H14: =(H12-11*3)/2 -> 2 | I14: m
A16: 2. The same workbooks are now used for dumpy and laser level usage, assuming the laser is used as a
B17: dumpy to merely read off the height (level) on a staff and the level captured as per dumpy levelling.
A32: 3. The average green level is now used as the baseline for computing the BSA level points and fill/cut volumes.
B33: Previously Cubitt used the MODE as the baseline, which leads to errors
B34: when the level data points are not normally distrusted (i.e. forms a bell-shaped curve)
A50: 4. Conventions used: | C50: input | D50: cells in yellow highlights and BLUE text is used for inputs.
C51: All cells other than those for data entry will be write protected.
C52: BLACK is used for text, RED is used for automated references or calculations.
B54: Drawn up by Nic Marais | E54: Please send feedback to Nic.Marais.1962@gmail.com
B55: Revised 28 September 2026
B103: ENJOY TESTING THIS OUT! | E103: © | F103: Nic Marais 1 May 2026

Sheet INPUT
B1: BowlsSA Green Levels Points - Revision 6X2 for 35 to 37 m greens, 3m spacing (13x13) | P1: INPUT sheet
B3: Bowls Club | H3: Levels taken by
B4: Green | H4: Date levels taken
C6: Relative Level Readings mm | H6: Reference Datum Level | L6: mm
B7: NW | C7: 1/2 | D7: 2/4 | E7: 3/6 | F7: 4/8 | G7: 5/10 | H7: 6/12 | I7: 7/14 | J7: 8/16 | K7: 9/18 | L7: 10/20 | M7: 11/22 | N7: 12/24 | O7: 13/26 | P7: NE
B8: 1/2
B9: 2/4
B10: 3/6
B11: 4/8
B12: 5/10
B13: 6/12
B14: 7/14
B15: 8/16
B16: 9/18
B17: 10/20
B18: 11/22
B19: 12/24
B20: 13/26
B21: SW | F21: N.B. Drag-and-drop not allowed when entering readings. | P21: SE
C23: Levels Analysis: (mm)
C24: Whole Area (13x13) | G24: Min. | H24: =MIN(C8:O20) -> 0 | I24: Max. | J24: =MAX(C8:O20) -> 0 | K24: Average | M24: =ROUND(AVERAGE(C8:O20),0) -> #DIV/0! | N24: mm
C25: Inner Area (11x11) | G25: Min. | H25: =MIN(D9:N19) -> 0 | I25: Max. | J25: =MAX(D9:N19) -> 0 | K25: Average | M25: =ROUND(AVERAGE(D9:N19),0) -> #DIV/0! | N25: mm

Sheet BSA LEVEL POINTS
B1: =INPUT!B1 -> BowlsSA Green Levels Points - Revision 6X2 for 35 to 37 m greens, 3m spacing (13x13) | P1: BSA POINTS
B3: Bowls Club | D3: =INPUT!D3 -> 0 | I3: Levels taken by | J3: =INPUT!J3 -> 0
B4: Green | D4: =INPUT!D4 -> 0 | I4: Date of Levels Taken | J4: =INPUT!J4 -> 0
B6: Set Tolerance (Tol.) to ± | F6: 4 | G6: mm | H6: Index: | I6: LOW | J6: <-Tol. | K6: OK | L6: ± Tol. | M6: HIGH | N6: >Tol.
B7: NW | P7: NE
B8: 1/2 | C8: =$D$23-INPUT!C8 -> #DIV/0! | D8: =$D$23-INPUT!D8 -> #DIV/0! | E8: =$D$23-INPUT!E8 -> #DIV/0! | F8: =$D$23-INPUT!F8 -> #DIV/0! | G8: =$D$23-INPUT!G8 -> #DIV/0! | H8: =$D$23-INPUT!H8 -> #DIV/0! | I8: =$D$23-INPUT!I8 -> #DIV/0! | J8: =$D$23-INPUT!J8 -> #DIV/0! | ... O8: =$D$23-INPUT!O8 -> #DIV/0!
B9: 2/4 | C9: =$D$23-INPUT!C9 -> #DIV/0! | D9: =$D$23-INPUT!D9 -> #DIV/0! | E9: =$D$23-INPUT!E9 -> #DIV/0! | F9: =$D$23-INPUT!F9 -> #DIV/0! | G9: =$D$23-INPUT!G9 -> #DIV/0! | H9: =$D$23-INPUT!H9 -> #DIV/0! | I9: =$D$23-INPUT!I9 -> #DIV/0! | J9: =$D$23-INPUT!J9 -> #DIV/0! | ... O9: =$D$23-INPUT!O9 -> #DIV/0!
B10: 3/6 | C10: =$D$23-INPUT!C10 -> #DIV/0! | D10: =$D$23-INPUT!D10 -> #DIV/0! | E10: =$D$23-INPUT!E10 -> #DIV/0! | F10: =$D$23-INPUT!F10 -> #DIV/0! | G10: =$D$23-INPUT!G10 -> #DIV/0! | H10: =$D$23-INPUT!H10 -> #DIV/0! | I10: =$D$23-INPUT!I10 -> #DIV/0! | J10: =$D$23-INPUT!J10 -> #DIV/0! | ... O10: =$D$23-INPUT!O10 -> #DIV/0!
B11: 4/8 | C11: =$D$23-INPUT!C11 -> #DIV/0! | D11: =$D$23-INPUT!D11 -> #DIV/0! | E11: =$D$23-INPUT!E11 -> #DIV/0! | F11: =$D$23-INPUT!F11 -> #DIV/0! | G11: =$D$23-INPUT!G11 -> #DIV/0! | H11: =$D$23-INPUT!H11 -> #DIV/0! | I11: =$D$23-INPUT!I11 -> #DIV/0! | J11: =$D$23-INPUT!J11 -> #DIV/0! | ... O11: =$D$23-INPUT!O11 -> #DIV/0!
B12: 5/10 | C12: =$D$23-INPUT!C12 -> #DIV/0! | D12: =$D$23-INPUT!D12 -> #DIV/0! | E12: =$D$23-INPUT!E12 -> #DIV/0! | F12: =$D$23-INPUT!F12 -> #DIV/0! | G12: =$D$23-INPUT!G12 -> #DIV/0! | H12: =$D$23-INPUT!H12 -> #DIV/0! | I12: =$D$23-INPUT!I12 -> #DIV/0! | J12: =$D$23-INPUT!J12 -> #DIV/0! | ... O12: =$D$23-INPUT!O12 -> #DIV/0!
B13: 6/12 | C13: =$D$23-INPUT!C13 -> #DIV/0! | D13: =$D$23-INPUT!D13 -> #DIV/0! | E13: =$D$23-INPUT!E13 -> #DIV/0! | F13: =$D$23-INPUT!F13 -> #DIV/0! | G13: =$D$23-INPUT!G13 -> #DIV/0! | H13: =$D$23-INPUT!H13 -> #DIV/0! | I13: =$D$23-INPUT!I13 -> #DIV/0! | J13: =$D$23-INPUT!J13 -> #DIV/0! | ... O13: =$D$23-INPUT!O13 -> #DIV/0!
B14: 7/14 | C14: =$D$23-INPUT!C14 -> #DIV/0! | D14: =$D$23-INPUT!D14 -> #DIV/0! | E14: =$D$23-INPUT!E14 -> #DIV/0! | F14: =$D$23-INPUT!F14 -> #DIV/0! | G14: =$D$23-INPUT!G14 -> #DIV/0! | H14: =$D$23-INPUT!H14 -> #DIV/0! | I14: =$D$23-INPUT!I14 -> #DIV/0! | J14: =$D$23-INPUT!J14 -> #DIV/0! | ... O14: =$D$23-INPUT!O14 -> #DIV/0!
B15: 8/16 | C15: =$D$23-INPUT!C15 -> #DIV/0! | D15: =$D$23-INPUT!D15 -> #DIV/0! | E15: =$D$23-INPUT!E15 -> #DIV/0! | F15: =$D$23-INPUT!F15 -> #DIV/0! | G15: =$D$23-INPUT!G15 -> #DIV/0! | H15: =$D$23-INPUT!H15 -> #DIV/0! | I15: =$D$23-INPUT!I15 -> #DIV/0! | J15: =$D$23-INPUT!J15 -> #DIV/0! | ... O15: =$D$23-INPUT!O15 -> #DIV/0!
B16: 9/18 | C16: =$D$23-INPUT!C16 -> #DIV/0! | D16: =$D$23-INPUT!D16 -> #DIV/0! | E16: =$D$23-INPUT!E16 -> #DIV/0! | F16: =$D$23-INPUT!F16 -> #DIV/0! | G16: =$D$23-INPUT!G16 -> #DIV/0! | H16: =$D$23-INPUT!H16 -> #DIV/0! | I16: =$D$23-INPUT!I16 -> #DIV/0! | J16: =$D$23-INPUT!J16 -> #DIV/0! | ... O16: =$D$23-INPUT!O16 -> #DIV/0!
B17: 10/20 | C17: =$D$23-INPUT!C17 -> #DIV/0! | D17: =$D$23-INPUT!D17 -> #DIV/0! | E17: =$D$23-INPUT!E17 -> #DIV/0! | F17: =$D$23-INPUT!F17 -> #DIV/0! | G17: =$D$23-INPUT!G17 -> #DIV/0! | H17: =$D$23-INPUT!H17 -> #DIV/0! | I17: =$D$23-INPUT!I17 -> #DIV/0! | J17: =$D$23-INPUT!J17 -> #DIV/0! | ... O17: =$D$23-INPUT!O17 -> #DIV/0!
B18: 11/22 | C18: =$D$23-INPUT!C18 -> #DIV/0! | D18: =$D$23-INPUT!D18 -> #DIV/0! | E18: =$D$23-INPUT!E18 -> #DIV/0! | F18: =$D$23-INPUT!F18 -> #DIV/0! | G18: =$D$23-INPUT!G18 -> #DIV/0! | H18: =$D$23-INPUT!H18 -> #DIV/0! | I18: =$D$23-INPUT!I18 -> #DIV/0! | J18: =$D$23-INPUT!J18 -> #DIV/0! | ... O18: =$D$23-INPUT!O18 -> #DIV/0!
B19: 12/24 | C19: =$D$23-INPUT!C19 -> #DIV/0! | D19: =$D$23-INPUT!D19 -> #DIV/0! | E19: =$D$23-INPUT!E19 -> #DIV/0! | F19: =$D$23-INPUT!F19 -> #DIV/0! | G19: =$D$23-INPUT!G19 -> #DIV/0! | H19: =$D$23-INPUT!H19 -> #DIV/0! | I19: =$D$23-INPUT!I19 -> #DIV/0! | J19: =$D$23-INPUT!J19 -> #DIV/0! | ... O19: =$D$23-INPUT!O19 -> #DIV/0!
B20: 13/26 | C20: =$D$23-INPUT!C20 -> #DIV/0! | D20: =$D$23-INPUT!D20 -> #DIV/0! | E20: =$D$23-INPUT!E20 -> #DIV/0! | F20: =$D$23-INPUT!F20 -> #DIV/0! | G20: =$D$23-INPUT!G20 -> #DIV/0! | H20: =$D$23-INPUT!H20 -> #DIV/0! | I20: =$D$23-INPUT!I20 -> #DIV/0! | J20: =$D$23-INPUT!J20 -> #DIV/0! | ... O20: =$D$23-INPUT!O20 -> #DIV/0!
B21: SW | C21: 1/2 | D21: 2/4 | E21: 3/6 | F21: 4/8 | G21: 5/10 | H21: 6/12 | I21: 7/14 | J21: 8/16 | K21: 9/18 | L21: 10/20 | M21: 11/22 | N21: 12/24 | O21: 13/26 | P21: SE
B23: Baseline | D23: =INPUT!M24 -> #DIV/0! | E23: mm | F23: Level Points | H23: =COUNT(C8:O20)-M23-M24 -> 0 | I23: =H23/COUNT(C8:O20) -> #DIV/0! | K23: LOW Points | M23: =COUNTIF(C8:O20,"<-"&F6) -> 0 | N23: =M23/COUNT(C8:O20) -> #DIV/0!
K24: HIGH Points | M24: =COUNTIF(C8:O20,">"&F6) -> 0 | N24: =M24/COUNT(C8:O20) -> #DIV/0!
B26: =CONCATENATE("BSA Level Points calculated from baseline ± ",F6," mm (out of 30) for WHOLE AREA") -> BSA Level Points calculated from baseline ± 4 mm (out of 30) for WHOLE AREA | N26: =I23*30 -> #DIV/0!

Sheet Old Inner Points
B1: =INPUT!B1 -> BowlsSA Green Levels Points - Revision 6X2 for 35 to 37 m greens, 3m spacing (13x13) | Q1: Inner Points
B3: Bowls Club | D3: =INPUT!D3 -> 0 | I3: Levels taken by | J3: =INPUT!J3 -> 0
B4: Green | D4: =INPUT!D4 -> 0 | I4: Date of Levels Taken | J4: =INPUT!J4 -> 0
B6: Set Tolerance (Tol.) to ± | F6: 4 | G6: mm | H6: Index: | I6: LOW | J6: <-Tol. | K6: OK | L6: ± Tol. | M6: HIGH | N6: >Tol.
B7: NW | P7: NE
B8: 1/2
B9: 2/4 | D9: =$D$23-INPUT!D9 -> #DIV/0! | E9: =$D$23-INPUT!E9 -> #DIV/0! | F9: =$D$23-INPUT!F9 -> #DIV/0! | G9: =$D$23-INPUT!G9 -> #DIV/0! | H9: =$D$23-INPUT!H9 -> #DIV/0! | I9: =$D$23-INPUT!I9 -> #DIV/0! | J9: =$D$23-INPUT!J9 -> #DIV/0! | K9: =$D$23-INPUT!K9 -> #DIV/0! | ... N9: =$D$23-INPUT!N9 -> #DIV/0!
B10: 3/6 | D10: =$D$23-INPUT!D10 -> #DIV/0! | E10: =$D$23-INPUT!E10 -> #DIV/0! | F10: =$D$23-INPUT!F10 -> #DIV/0! | G10: =$D$23-INPUT!G10 -> #DIV/0! | H10: =$D$23-INPUT!H10 -> #DIV/0! | I10: =$D$23-INPUT!I10 -> #DIV/0! | J10: =$D$23-INPUT!J10 -> #DIV/0! | K10: =$D$23-INPUT!K10 -> #DIV/0! | ... N10: =$D$23-INPUT!N10 -> #DIV/0!
B11: 4/8 | D11: =$D$23-INPUT!D11 -> #DIV/0! | E11: =$D$23-INPUT!E11 -> #DIV/0! | F11: =$D$23-INPUT!F11 -> #DIV/0! | G11: =$D$23-INPUT!G11 -> #DIV/0! | H11: =$D$23-INPUT!H11 -> #DIV/0! | I11: =$D$23-INPUT!I11 -> #DIV/0! | J11: =$D$23-INPUT!J11 -> #DIV/0! | K11: =$D$23-INPUT!K11 -> #DIV/0! | ... N11: =$D$23-INPUT!N11 -> #DIV/0!
B12: 5/10 | D12: =$D$23-INPUT!D12 -> #DIV/0! | E12: =$D$23-INPUT!E12 -> #DIV/0! | F12: =$D$23-INPUT!F12 -> #DIV/0! | G12: =$D$23-INPUT!G12 -> #DIV/0! | H12: =$D$23-INPUT!H12 -> #DIV/0! | I12: =$D$23-INPUT!I12 -> #DIV/0! | J12: =$D$23-INPUT!J12 -> #DIV/0! | K12: =$D$23-INPUT!K12 -> #DIV/0! | ... N12: =$D$23-INPUT!N12 -> #DIV/0!
B13: 6/12 | D13: =$D$23-INPUT!D13 -> #DIV/0! | E13: =$D$23-INPUT!E13 -> #DIV/0! | F13: =$D$23-INPUT!F13 -> #DIV/0! | G13: =$D$23-INPUT!G13 -> #DIV/0! | H13: =$D$23-INPUT!H13 -> #DIV/0! | I13: =$D$23-INPUT!I13 -> #DIV/0! | J13: =$D$23-INPUT!J13 -> #DIV/0! | K13: =$D$23-INPUT!K13 -> #DIV/0! | ... N13: =$D$23-INPUT!N13 -> #DIV/0!
B14: 7/14 | D14: =$D$23-INPUT!D14 -> #DIV/0! | E14: =$D$23-INPUT!E14 -> #DIV/0! | F14: =$D$23-INPUT!F14 -> #DIV/0! | G14: =$D$23-INPUT!G14 -> #DIV/0! | H14: =$D$23-INPUT!H14 -> #DIV/0! | I14: =$D$23-INPUT!I14 -> #DIV/0! | J14: =$D$23-INPUT!J14 -> #DIV/0! | K14: =$D$23-INPUT!K14 -> #DIV/0! | ... N14: =$D$23-INPUT!N14 -> #DIV/0!
B15: 8/16 | D15: =$D$23-INPUT!D15 -> #DIV/0! | E15: =$D$23-INPUT!E15 -> #DIV/0! | F15: =$D$23-INPUT!F15 -> #DIV/0! | G15: =$D$23-INPUT!G15 -> #DIV/0! | H15: =$D$23-INPUT!H15 -> #DIV/0! | I15: =$D$23-INPUT!I15 -> #DIV/0! | J15: =$D$23-INPUT!J15 -> #DIV/0! | K15: =$D$23-INPUT!K15 -> #DIV/0! | ... N15: =$D$23-INPUT!N15 -> #DIV/0!
B16: 9/18 | D16: =$D$23-INPUT!D16 -> #DIV/0! | E16: =$D$23-INPUT!E16 -> #DIV/0! | F16: =$D$23-INPUT!F16 -> #DIV/0! | G16: =$D$23-INPUT!G16 -> #DIV/0! | H16: =$D$23-INPUT!H16 -> #DIV/0! | I16: =$D$23-INPUT!I16 -> #DIV/0! | J16: =$D$23-INPUT!J16 -> #DIV/0! | K16: =$D$23-INPUT!K16 -> #DIV/0! | ... N16: =$D$23-INPUT!N16 -> #DIV/0!
B17: 10/20 | D17: =$D$23-INPUT!D17 -> #DIV/0! | E17: =$D$23-INPUT!E17 -> #DIV/0! | F17: =$D$23-INPUT!F17 -> #DIV/0! | G17: =$D$23-INPUT!G17 -> #DIV/0! | H17: =$D$23-INPUT!H17 -> #DIV/0! | I17: =$D$23-INPUT!I17 -> #DIV/0! | J17: =$D$23-INPUT!J17 -> #DIV/0! | K17: =$D$23-INPUT!K17 -> #DIV/0! | ... N17: =$D$23-INPUT!N17 -> #DIV/0!
B18: 11/22 | D18: =$D$23-INPUT!D18 -> #DIV/0! | E18: =$D$23-INPUT!E18 -> #DIV/0! | F18: =$D$23-INPUT!F18 -> #DIV/0! | G18: =$D$23-INPUT!G18 -> #DIV/0! | H18: =$D$23-INPUT!H18 -> #DIV/0! | I18: =$D$23-INPUT!I18 -> #DIV/0! | J18: =$D$23-INPUT!J18 -> #DIV/0! | K18: =$D$23-INPUT!K18 -> #DIV/0! | ... N18: =$D$23-INPUT!N18 -> #DIV/0!
B19: 12/24 | D19: =$D$23-INPUT!D19 -> #DIV/0! | E19: =$D$23-INPUT!E19 -> #DIV/0! | F19: =$D$23-INPUT!F19 -> #DIV/0! | G19: =$D$23-INPUT!G19 -> #DIV/0! | H19: =$D$23-INPUT!H19 -> #DIV/0! | I19: =$D$23-INPUT!I19 -> #DIV/0! | J19: =$D$23-INPUT!J19 -> #DIV/0! | K19: =$D$23-INPUT!K19 -> #DIV/0! | ... N19: =$D$23-INPUT!N19 -> #DIV/0!
B20: 13/26
B21: SW | C21: 1/2 | D21: 2/4 | E21: 3/6 | F21: 4/8 | G21: 5/10 | H21: 6/12 | I21: 7/14 | J21: 8/16 | K21: 9/18 | L21: 10/20 | M21: 11/22 | N21: 12/24 | O21: 13/26 | P21: SE
B23: Baseline | D23: =INPUT!M25 -> #DIV/0! | E23: mm | F23: Level Points | H23: =COUNT(D9:N19)-M23-M24 -> 0 | I23: =H23/COUNT(D9:N19) -> #DIV/0! | K23: LOW Points | M23: =COUNTIF(D9:N19,"<-"&F6) -> 0 | N23: =M23/COUNT(D9:N19) -> #DIV/0!
K24: HIGH Points | M24: =COUNTIF(D9:N19,">"&F6) -> 0 | N24: =M24/COUNT(D9:N19) -> #DIV/0!
B26: =CONCATENATE("BSA Level Points calculated from baseline ± ",F6," mm (out of 30) for INNER AREA") -> BSA Level Points calculated from baseline ± 4 mm (out of 30) for INNER AREA | N26: =I23*30 -> #DIV/0!

Sheet PROFILE
B1: =INPUT!B1 -> BowlsSA Green Levels Points - Revision 6X2 for 35 to 37 m greens, 3m spacing (13x13) | P1: PROFILE sheet
B3: Bowls Club | D3: =INPUT!D3 -> 0 | I3: Levels taken by | K3: =INPUT!J3 -> 0
B4: Green | D4: =INPUT!D4 -> 0 | J4: Date of Levels Taken | K4: =INPUT!J4 -> 0
C6: SET new base level to | H6: mm | I6: Average Level | K6: =INPUT!M24 -> #DIV/0! | L6: mm
I7: Highest Point | K7: =INPUT!H24 -> 0 | L7: mm
C8: Index | D8: LOW | E8: Level | F8: HIGH | I8: Lowest Point | K8: =INPUT!J24 -> 0 | L8: mm
B9: NW | P9: NE
B10: 1/2 | C10: =$F$6-INPUT!C8 -> 0 | D10: =$F$6-INPUT!D8 -> 0 | E10: =$F$6-INPUT!E8 -> 0 | F10: =$F$6-INPUT!F8 -> 0 | G10: =$F$6-INPUT!G8 -> 0 | H10: =$F$6-INPUT!H8 -> 0 | I10: =$F$6-INPUT!I8 -> 0 | J10: =$F$6-INPUT!J8 -> 0 | ... O10: =$F$6-INPUT!O8 -> 0
B11: 2/4 | C11: =$F$6-INPUT!C9 -> 0 | D11: =$F$6-INPUT!D9 -> 0 | E11: =$F$6-INPUT!E9 -> 0 | F11: =$F$6-INPUT!F9 -> 0 | G11: =$F$6-INPUT!G9 -> 0 | H11: =$F$6-INPUT!H9 -> 0 | I11: =$F$6-INPUT!I9 -> 0 | J11: =$F$6-INPUT!J9 -> 0 | ... O11: =$F$6-INPUT!O9 -> 0
B12: 3/6 | C12: =$F$6-INPUT!C10 -> 0 | D12: =$F$6-INPUT!D10 -> 0 | E12: =$F$6-INPUT!E10 -> 0 | F12: =$F$6-INPUT!F10 -> 0 | G12: =$F$6-INPUT!G10 -> 0 | H12: =$F$6-INPUT!H10 -> 0 | I12: =$F$6-INPUT!I10 -> 0 | J12: =$F$6-INPUT!J10 -> 0 | ... O12: =$F$6-INPUT!O10 -> 0
B13: 4/8 | C13: =$F$6-INPUT!C11 -> 0 | D13: =$F$6-INPUT!D11 -> 0 | E13: =$F$6-INPUT!E11 -> 0 | F13: =$F$6-INPUT!F11 -> 0 | G13: =$F$6-INPUT!G11 -> 0 | H13: =$F$6-INPUT!H11 -> 0 | I13: =$F$6-INPUT!I11 -> 0 | J13: =$F$6-INPUT!J11 -> 0 | ... O13: =$F$6-INPUT!O11 -> 0
B14: 5/10 | C14: =$F$6-INPUT!C12 -> 0 | D14: =$F$6-INPUT!D12 -> 0 | E14: =$F$6-INPUT!E12 -> 0 | F14: =$F$6-INPUT!F12 -> 0 | G14: =$F$6-INPUT!G12 -> 0 | H14: =$F$6-INPUT!H12 -> 0 | I14: =$F$6-INPUT!I12 -> 0 | J14: =$F$6-INPUT!J12 -> 0 | ... O14: =$F$6-INPUT!O12 -> 0
B15: 6/12 | C15: =$F$6-INPUT!C13 -> 0 | D15: =$F$6-INPUT!D13 -> 0 | E15: =$F$6-INPUT!E13 -> 0 | F15: =$F$6-INPUT!F13 -> 0 | G15: =$F$6-INPUT!G13 -> 0 | H15: =$F$6-INPUT!H13 -> 0 | I15: =$F$6-INPUT!I13 -> 0 | J15: =$F$6-INPUT!J13 -> 0 | ... O15: =$F$6-INPUT!O13 -> 0
B16: 7/14 | C16: =$F$6-INPUT!C14 -> 0 | D16: =$F$6-INPUT!D14 -> 0 | E16: =$F$6-INPUT!E14 -> 0 | F16: =$F$6-INPUT!F14 -> 0 | G16: =$F$6-INPUT!G14 -> 0 | H16: =$F$6-INPUT!H14 -> 0 | I16: =$F$6-INPUT!I14 -> 0 | J16: =$F$6-INPUT!J14 -> 0 | ... O16: =$F$6-INPUT!O14 -> 0
B17: 8/16 | C17: =$F$6-INPUT!C15 -> 0 | D17: =$F$6-INPUT!D15 -> 0 | E17: =$F$6-INPUT!E15 -> 0 | F17: =$F$6-INPUT!F15 -> 0 | G17: =$F$6-INPUT!G15 -> 0 | H17: =$F$6-INPUT!H15 -> 0 | I17: =$F$6-INPUT!I15 -> 0 | J17: =$F$6-INPUT!J15 -> 0 | ... O17: =$F$6-INPUT!O15 -> 0
B18: 9/18 | C18: =$F$6-INPUT!C16 -> 0 | D18: =$F$6-INPUT!D16 -> 0 | E18: =$F$6-INPUT!E16 -> 0 | F18: =$F$6-INPUT!F16 -> 0 | G18: =$F$6-INPUT!G16 -> 0 | H18: =$F$6-INPUT!H16 -> 0 | I18: =$F$6-INPUT!I16 -> 0 | J18: =$F$6-INPUT!J16 -> 0 | ... O18: =$F$6-INPUT!O16 -> 0
B19: 10/20 | C19: =$F$6-INPUT!C17 -> 0 | D19: =$F$6-INPUT!D17 -> 0 | E19: =$F$6-INPUT!E17 -> 0 | F19: =$F$6-INPUT!F17 -> 0 | G19: =$F$6-INPUT!G17 -> 0 | H19: =$F$6-INPUT!H17 -> 0 | I19: =$F$6-INPUT!I17 -> 0 | J19: =$F$6-INPUT!J17 -> 0 | ... O19: =$F$6-INPUT!O17 -> 0
B20: 11/22 | C20: =$F$6-INPUT!C18 -> 0 | D20: =$F$6-INPUT!D18 -> 0 | E20: =$F$6-INPUT!E18 -> 0 | F20: =$F$6-INPUT!F18 -> 0 | G20: =$F$6-INPUT!G18 -> 0 | H20: =$F$6-INPUT!H18 -> 0 | I20: =$F$6-INPUT!I18 -> 0 | J20: =$F$6-INPUT!J18 -> 0 | ... O20: =$F$6-INPUT!O18 -> 0
B21: 12/24 | C21: =$F$6-INPUT!C19 -> 0 | D21: =$F$6-INPUT!D19 -> 0 | E21: =$F$6-INPUT!E19 -> 0 | F21: =$F$6-INPUT!F19 -> 0 | G21: =$F$6-INPUT!G19 -> 0 | H21: =$F$6-INPUT!H19 -> 0 | I21: =$F$6-INPUT!I19 -> 0 | J21: =$F$6-INPUT!J19 -> 0 | ... O21: =$F$6-INPUT!O19 -> 0
B22: 13/26 | C22: =$F$6-INPUT!C20 -> 0 | D22: =$F$6-INPUT!D20 -> 0 | E22: =$F$6-INPUT!E20 -> 0 | F22: =$F$6-INPUT!F20 -> 0 | G22: =$F$6-INPUT!G20 -> 0 | H22: =$F$6-INPUT!H20 -> 0 | I22: =$F$6-INPUT!I20 -> 0 | J22: =$F$6-INPUT!J20 -> 0 | ... O22: =$F$6-INPUT!O20 -> 0
B23: SW | C23: 1/2 | D23: 2/4 | E23: 3/6 | F23: 4/8 | G23: 5/10 | H23: 6/12 | I23: 7/14 | J23: 8/16 | K23: 9/18 | L23: 10/20 | M23: 11/22 | N23: 12/24 | O23: 13/26 | P23: SE
B26: NEW GREEN LEVEL (mm) | E26: =F6 -> 0 | G26: Maximum Cut (mm) | J26: =MAX(C10:O22) -> 0 | L26: Maximum Fill (mm) | O26: =MIN(C10:O22) -> 0
B27: Area within ± 1mm | E27: =COUNTIFS(C10:O22,">=-1",C10:O22,"<=1")/COUNT(C10:O22) -> 1 | G27: HIGH Area Requiring Cut | J27: =COUNTIF(C10:O22,">1")/COUNT(C10:O22) -> 0 | L27: LOW Area Requiring Fill | O27: =COUNTIF(C10:O22,"<-1")/COUNT(C10:O22) -> 0
B29: For Volume Calculations
C30: Green Length | D30: 36 | E30: m | F30: Green Area | H30: =D30*D31 -> 1296 | I30: m2 | J30: Estimated Fill Volume | M30: =SUMIF(C10:O22,"<0")*H31/1000*(-1) -> 0 | N30: m3
C31: Green Width | D31: 36 | E31: m | F31: Block Area | H31: =D30*D31/COUNT(C10:O22) -> 7.6686391 | I31: m2 | J31: Estimate Cut/Scarify Vol. | M31: =SUMIF(C10:O22,">0")*H31/1000 -> 0 | N31: m3

Sheet RecordSheet
B1: =INPUT!B1 -> BowlsSA Green Levels Points - Revision 6X2 for 35 to 37 m greens, 3m spacing (13x13) | O1: RecordSheet
B3: Bowls Club | H3: Date | M3: Datum (mm)
B4: Green | H4: Levels taken by
B6: NW | C6: 1/2 | D6: 2/4 | E6: 3/6 | F6: 4/8 | G6: 5/10 | H6: 6/12 | I6: 7/14 | J6: 8/16 | K6: 9/18 | L6: 10/20 | M6: 11/22 | N6: 12/24 | O6: 13/26 | P6: NE
B7: 1/2
B8: 2/4
B9: 3/6
B10: 4/8
B11: 5/10
B12: 6/12
B13: 7/14
B14: 8/16
B15: 9/18
B16: 10/20
B17: 11/22
B18: 12/24
B19: 13/26
B20: SW | P20: SE
